BEGIN:VCALENDAR
VERSION:2.0
METHOD:PUBLISH
BEGIN:VEVENT
UID:WILD_APRICOT_EVENT_3571041_SESSION_1
DTSTART:20191016T063000Z
DTEND:20191016T080000Z
SUMMARY:QETA Annual General Meeting 2019
LOCATION:Brisbane Grammar School
DESCRIPTION:https://qeta.com.au/event-3571041\n\nNotice is given that the Annual General Meeting of the Queensland Economics Teachers Association Inc. will be held on Wednesday 16th October 2019 at Brisbane Grammar School\, Gregory Terrace\, Brisbane QLD 4000\, commencing at 4.30pm.\n  Parking is available off College Road . There is ample parking available.\n  \nAGENDA\n      * Apologies\n\n       * Minutes of Previous Annual Meeting\n\n   3.   Business from Minutes\n  4.   President’s Report\n        5.   Treasurer’s report\n  6.   Auditor’s Report\n        7.   Election of Office Bearers 2019/20\n        8.  Appointment of Auditor\n        9.  Constitution Changes\n  Tea and Coffee will be available prior to the meeting.\n  \n\n
DTSTAMP:20200226T170252Z
END:VEVENT
END:VCALENDAR
