BEGIN:VCALENDAR
VERSION:2.0
METHOD:PUBLISH
BEGIN:VEVENT
UID:WILD_APRICOT_EVENT_3457067_SESSION_1
DTSTART:20190726T223000Z
DTEND:20190727T023000Z
SUMMARY:QETA PD Morning
LOCATION:Brisbane Girls Grammar School
DESCRIPTION:https://qeta.com.au/event-3457067\n\nThis is a half-day Professional Development event conducted by the Queensland Economics Teachers' Association.\n  To be held at Brisbane Girls Grammar School\, the event gives teachers of Economics an opportunity to receive 3 hours of PD\, meet other teachers of Economics\, have a great morning tea\, hear some outstanding speakers in the field of Economics.\n  The program is:\n  8:30-9am Registration\n  9-9:10am Welcome and housekeeping\n  9:10-10:15am Keynote speaker: Key note presentation from Deloitte Economics on current state of the Australian Economy\n  10:15-10:45am Morning tea\n  10:45-11:30am Session 2: Dr Jayanta Sarkar Senior lecturer Economics QUT\, Queensland Behavioural Economics Group. Topic: Income Inequality in Australia\n  11:30-12:20pm Session 3: QCAA will present a 45 minute workshop on how schools might develop their own communities of practice\, which may assist in developing internal quality management processes to support new QCE System processes. Participants should bring a copy of the Economics 2019 General Syllabus with them.\n  12:20-12:30pm Wrap up and close\n  \n\n  The brochure for this event can be downloaded here:\n \n\n  Professional Development Flyer 2019.pdf\n\n
DTSTAMP:20200226T170304Z
END:VEVENT
END:VCALENDAR
