BEGIN:VCALENDAR
VERSION:2.0
METHOD:PUBLISH
BEGIN:VEVENT
UID:WILD_APRICOT_EVENT_3415892_SESSION_1
DTSTART:20190719T000000Z
DTEND:20190719T040000Z
SUMMARY:QETA QUT Student Economics Day 2019
LOCATION:QUT Gardens Point Campus P-Block
DESCRIPTION:https://qeta.com.au/event-3415892\n\nThe QUT Student Economics Day gives students the opportunity to:\n      * hear from some leading academic economists\;\n\n        * experience something of life on a university campus\n\n        * update their economic knowledge and understanding\n\n  This day is supported by the School of Economics\, Queensland University of Technology\n  Fee:\n $5.50 per student (QETA member schools) (incl GST)\n $7.70 per student (non-QETA member schools) (incl GST)\n  *includes lunch for students\n     You can access further information below.\n       * QUT Student Day 2019 - flyer\n\n        * QUT Student Day Program 2019\n\n\n
DTSTAMP:20200226T170337Z
END:VEVENT
END:VCALENDAR
