BEGIN:VCALENDAR
VERSION:2.0
METHOD:PUBLISH
BEGIN:VEVENT
UID:WILD_APRICOT_EVENT_3415879_SESSION_1
DTSTART:20190718T000000Z
DTEND:20190718T040000Z
SUMMARY:QETA UQ Student Economics Day 2019
LOCATION:Room 200\, Advanced Engineering Building (#49)\, UQ St. Lucia Campus
DESCRIPTION:https://qeta.com.au/event-3415879\n\nThe UQ Student Economics Day gives students the opportunity to:\n      * hear from some leading academic economists\;\n\n        * experience something of life on a university campus\n\n        * update their economic knowledge and understanding\n\n  This day is supported by the School of Economics\, University of Queensland.\n  Fee:\n $5.50 per student (QETA member schools) (incl GST)\n $7.70 per student (non-QETA member schools) (incl GST)\n  * Includes lunch for students\n     You can access further information below.\n       * UQ Student Day 2019 - flyer - updated 30th May\n\n        * Program 2019 - updated 30th May\n\n
DTSTAMP:20200226T170411Z
END:VEVENT
END:VCALENDAR
