BEGIN:VCALENDAR
VERSION:2.0
METHOD:PUBLISH
BEGIN:VEVENT
UID:WILD_APRICOT_EVENT_3246719_SESSION_1
DTSTART:20190226T061500Z
DTEND:20190226T071500Z
SUMMARY:QETA RBA TEACHER's SEMINAR
LOCATION:Marist College Ashgrove
DESCRIPTION:https://qeta.com.au/event-3246719\n\n\n\n  RBA TEACHER SEMINAR\n  \n\n  TOPIC: Monetary Policy and its Operation\n  PRESENTER: MS. KELLIE BELLROSE\, RBA SYDNEY OFFICE\n  \n\n  VENUE: MARIST COLLEGE ASHGROVE\n  \n\n  TIME:  4.15PM - 5.15PM\n  \n\n  AFTERNOON TEA WILL BE AVAILABLE PRIOR TO THE COMMENCEMENT OF THE SEMINAR\n  \n\n
DTSTAMP:20200226T170516Z
END:VEVENT
END:VCALENDAR
