BEGIN:VCALENDAR
VERSION:2.0
METHOD:PUBLISH
BEGIN:VEVENT
UID:WILD_APRICOT_EVENT_3152204_SESSION_1
DTSTART:20190227T233000Z
DTEND:20190228T003000Z
SUMMARY:QETA RBA Brisbane Seminar 4
LOCATION:Marist College Ashgrove
DESCRIPTION:https://qeta.com.au/event-3152204\n\nRBA Brisbane Seminar 4 for 2019 is held at Marist College Ashgrove on 28th  February 2019 from 9.30am until 10.30am.\n  The seminar is presented by an Economist of the Reserve Bank of Australia in Queensland. The topic for the Presentation is "Current Conditions in the Australian Economy".\n  Cost is as follows:\n  $5.50 per student and teacher where school is a member of QETA.\n  $5.50 per teacher where the teacher is an individual member of QETA.\n  $7.70 per student where school is not a member of QETA.\n  Click here to download the flyer\n\n
DTSTAMP:20200226T170444Z
END:VEVENT
END:VCALENDAR
