BEGIN:VCALENDAR
VERSION:2.0
METHOD:PUBLISH
BEGIN:VEVENT
UID:WILD_APRICOT_EVENT_3152195_SESSION_1
DTSTART:20190227T210000Z
DTEND:20190227T220000Z
SUMMARY:QETA RBA Seminar Brisbane 3
LOCATION:Cavendish Road State High School\, Holland Park
DESCRIPTION:https://qeta.com.au/event-3152195\n\nRBA Brisbane Seminar 3 f8amnoon.\n  The seminar is presented by an Economist of the Reserve Bank of Australia in Queensland. The topic for the Presentation is "Current Conditions in the Australian Economy".\n  Cost is as follows:\n  $5.50 per student and teacher where school is a member of QETA.\n  $5.50 per teacher where the teacher is an individual member of QETA.\n  $7.70 per student where school is not a member of QETA.\n  Click here to download the flyer\n\n
DTSTAMP:20200226T170455Z
END:VEVENT
END:VCALENDAR
