BEGIN:VCALENDAR
VERSION:2.0
METHOD:PUBLISH
BEGIN:VEVENT
UID:WILD_APRICOT_EVENT_3152192_SESSION_1
DTSTART:20190226T233000Z
DTEND:20190227T003000Z
SUMMARY:QETA RBA Seminar Gold Coast
LOCATION:All Saints Anglican School
DESCRIPTION:https://qeta.com.au/event-3152192\n\nRBA Gold Coast Seminar for 2019 is held at All Saints Anglican School\, Merrimac on 27th February 2019 at 9.30am.\n  The seminar is presented by an Economist of the Reserve Bank of Australia in Queensland. The topic for the Presentation is "Current Conditions in the Australian Economy".\n  Cost is as follows:\n  $5.50 per student and teacher where school is a member of QETA.\n  $5.50 per teacher where the teacher is an individual member of QETA.\n  $7.70 per student where school is not a member of QETA.\n  Click here to download the flyer\n\n
DTSTAMP:20200226T170505Z
END:VEVENT
END:VCALENDAR
