BEGIN:VCALENDAR
VERSION:2.0
METHOD:PUBLISH
BEGIN:VEVENT
UID:WILD_APRICOT_EVENT_3152186_SESSION_1
DTSTART:20190225T230000Z
DTEND:20190226T000000Z
SUMMARY:QETA RBA Seminar Toowoomba
LOCATION:Toowoomba Grammar School
DESCRIPTION:https://qeta.com.au/event-3152186\n\nRBA Toowoomba Seminar for 2019 is held at Toowoomba Grammar School on 26th February 2019 from 9am until 10 am.\n  The seminar is presented by an Economist of the Reserve Bank of Australia in Queensland. The topic for the Presentation is "Current Conditions in the Australian Economy".\n  Cost is as follows:\n  $5.50 per student and teacher where school is a member of QETA.\n  $5.50 per teacher where the teacher is an individual member of QETA.\n  $7.70 per student where school is not a member of QETA.\n  Click here to download the flyer\n\n
DTSTAMP:20200226T170527Z
END:VEVENT
END:VCALENDAR
