BEGIN:VCALENDAR
VERSION:2.0
METHOD:PUBLISH
BEGIN:VEVENT
UID:WILD_APRICOT_EVENT_3152183_SESSION_1
DTSTART:20190225T060000Z
DTEND:20190225T070000Z
SUMMARY:QETA RBA Seminar 2 Brisbane 2019
LOCATION:Brisbane Girls Grammar School\, Gregory Terrace\, Brisbane
DESCRIPTION:https://qeta.com.au/event-3152183\n\nRBA Brisbane Seminar 2 for 2019 is held at Brisbane Girls Grammar School on 25th  February 2019 from 4.00 pm until 5.00pm.\n  The seminar is presented by an Economist of the Reserve Bank of Australia in Queensland. The topic for the Presentation is "Current Conditions in the Australian Economy".\n  Cost is as follows:\n  $5.50 per student and teacher where school is a member of QETA.\n  $5.50 per teacher where the teacher is an individual member of QETA.\n  $7.70 per student where school is not a member of QETA.\n  Click here to download the flyer\n\n
DTSTAMP:20200226T170537Z
END:VEVENT
END:VCALENDAR
