BEGIN:VCALENDAR
VERSION:2.0
METHOD:PUBLISH
BEGIN:VEVENT
UID:WILD_APRICOT_EVENT_3152094_SESSION_1
DTSTART:20190225T010000Z
DTEND:20190225T020000Z
SUMMARY:QETA RBA Seminar Brisbane 1 2019
LOCATION:Cannon Hill Anglican College
DESCRIPTION:https://qeta.com.au/event-3152094\n\nRBA Brisbane Seminar 1 for 2019 is held at Cannon Hill Anglican College on 25th  February 2019 from 11am until noon.\n  The seminar is presented by an Economist of the Reserve Bank of Australia in Queensland. The topic for the Presentation is "Current Conditions in the Australian Economy".\n  Cost is as follows:\n  $5.50 per student and teacher where school is a member of QETA.\n  $5.50 per teacher where the teacher is an individual member of QETA.\n  $7.70 per student where school is not a member of QETA.\n  Click here to download the flyer\n\n
DTSTAMP:20200226T170548Z
END:VEVENT
END:VCALENDAR
