BEGIN:VCALENDAR
VERSION:2.0
METHOD:PUBLISH
BEGIN:VEVENT
UID:WILD_APRICOT_EVENT_3031694_SESSION_1
DTSTART:20181017T060000Z
DTEND:20181017T073000Z
SUMMARY:QETA AGM 2018
LOCATION:St. Paul's Anglican Church Hall\, 554 Vulture Street\, East Brisbane 4169
DESCRIPTION:https://qeta.com.au/event-3031694\n\nThe Annual General Meeting of QETA will be held on Wednesday 17th October 2018 at Church Hall\, Anglican Church of St. Paul\, 554 Vulture Street\, East Brisbane Qld 4069.\n  \n\n  Agenda:\n      * Apologies\n\n        * Minutes of Previous Annual Meeting\n\n        * Business from Minutes\n\n        * President’s Report\n\n        * Treasurer’s report\n\n        * Auditor’s Report\n\n        * Election of Office Bearers 2018/19\n\n        * Appointment of Auditor\n\n        * General Business\n\n      Light refreshments (tea\, coffee\, sandwiches and slices) will be available from 4.00pm      \n      The meeting will start at 4.30pm.      \n      There is some parking available on the grounds. Other parking can be available in the side streets near the Church.      \n      If you are planning to attend\, please register so that we know how many to cater for.   \n\n
DTSTAMP:20200226T170601Z
END:VEVENT
END:VCALENDAR
