BEGIN:VCALENDAR
VERSION:2.0
METHOD:PUBLISH
BEGIN:VEVENT
UID:WILD_APRICOT_EVENT_2907492_SESSION_1
DTSTART:20180720T000000Z
DTEND:20180720T040000Z
SUMMARY:QETA QUT Student Economics Day
LOCATION:QUT Brisbane Gardens Point Campus
DESCRIPTION:https://qeta.com.au/event-2907492\n\nThe QUT Student Economics Day gives students the opportunity to:\n  * hear from some leading academic economists\;\n  * experience something of life on a university campus\n  * update their economic knowledge and understanding\n  This day is supported by the School of Economics\, Queensland University of Technology\n  The cost is a low $5.50 per student (includes GST) and students are provided with a lunch at no additional cost.\n     \n      Click here to download the QUT Day 2018 brochure.\n           \n            QUT Day 2018.pdf\n      \n\n
DTSTAMP:20200226T170638Z
END:VEVENT
END:VCALENDAR
