BEGIN:VCALENDAR
VERSION:2.0
METHOD:PUBLISH
BEGIN:VEVENT
UID:WILD_APRICOT_EVENT_2905981_SESSION_1
DTSTART:20180719T000000Z
DTEND:20180719T040000Z
SUMMARY:QETA UQ Student Economics Day
LOCATION:University of Queensland
DESCRIPTION:https://qeta.com.au/event-2905981\n\nThe UQ Student Economics Day gives students the opportunity to:\n  * hear from some leading academic economists\;\n  * experience something of life on a university campus\n  * update their economic knowledge and understanding\n  This day is supported by the School of Economics\, University of Queensland.\n  The cost is a low $5.50 per student (includes GST) and students are provided with a lunch at no additional cost.\n  UQ QETA Economics Schools' Day.pdf\n\n  UQ Day 2018.docx\n\n
DTSTAMP:20200226T170712Z
END:VEVENT
END:VCALENDAR
