BEGIN:VCALENDAR
VERSION:2.0
METHOD:PUBLISH
BEGIN:VEVENT
UID:WILD_APRICOT_EVENT_2800586_SESSION_1
DTSTART:20180309T223000Z
DTEND:20180310T053000Z
SUMMARY:QETA State Conference
LOCATION:Brisbane Girls Grammar School
DESCRIPTION:https://qeta.com.au/event-2800586\n\nThe QETA State Conference will be held on Saturday 10th March 2018 at Brisbane Girls Grammar School\, with Registration commencing at 8.30am and concluding at 3.30pm.\n  The Conference program\, costs and how to register are included in this downloadable document: \n  The Conference is always a great day for teachers of Economics\, with great keynote addresses\, stimulating workshops\, outstanding food\, an opportunity to network with other teachers\, and social drinks at the conclusion of the day!\n  QETA thanks the following for their assistance/support of our Conference:\n      * Cengage\n\n        * ITC Publications\n\n\n        * Brisbane Girls Grammar School\n\n     \n      CLICK HERE TO DOWNLOAD DETAILS:       STATE CONFERENCE FLYER.docx\n   \n\n  REGISTRATION HAS NOW CEASED. IF YOU WISH TO REGISTER\, PLEASE CONTACT QETA VIA EMAIL AT info@qeta.com.au\n
DTSTAMP:20200226T170745Z
END:VEVENT
END:VCALENDAR
