BEGIN:VCALENDAR
VERSION:2.0
METHOD:PUBLISH
BEGIN:VEVENT
UID:WILD_APRICOT_EVENT_2732034_SESSION_1
DTSTART:20180222T230000Z
DTEND:20180223T000000Z
SUMMARY:RBA Toowoomba Seminar
LOCATION:Toowoomba Grammar School
DESCRIPTION:https://qeta.com.au/event-2732034\n\nRBA ToowoombaSeminar 4 for 2018 is held at Toowoomba Grammar School on 23rd  February 2018 from 9.00 am until 10.00 am.\n  The seminar is presented by Trent Saunders\, Economist of the Reserve Bank of Australia in Queensland. The topic for the Presentation is "Current Conditions in the Australian Economy".\n  Cost is as follows:\n  $5.50 per student and teacher where school is a member of QETA.\n  $5.50 per teacher where the teacher is an individual member of QETA.\n  $7.70 per student where school is not a member of QETA.\n  \n\n
DTSTAMP:20200226T170806Z
END:VEVENT
END:VCALENDAR
