BEGIN:VCALENDAR
VERSION:2.0
METHOD:PUBLISH
BEGIN:VEVENT
UID:WILD_APRICOT_EVENT_2723655_SESSION_1
DTSTART:20180220T233000Z
DTEND:20180221T003000Z
SUMMARY:RBA Seminar Gold Coast
LOCATION:Somerset College\, Mudgeeraba
DESCRIPTION:https://qeta.com.au/event-2723655\n\nRBA Gold Coast Seminar  for 2018 is held at Somerset Collegel on 21st February 2018 from 9.30 am until 10.30 am.\n  The seminar is presented by Trent Saunders\, Economist of the Reserve Bank of Australia in Queensland. The topic for the Presentation is "Current Conditions in the Australian Economy".\n  Cost is as follows:\n  $5.50 per student and teacher where school is a member of QETA.\n  $5.50 per teacher where the teacher is an individual member of QETA.\n  $7.70 per student where school is not a member of QETA.\n  \n\n
DTSTAMP:20200226T170840Z
END:VEVENT
END:VCALENDAR
