BEGIN:VCALENDAR
VERSION:2.0
METHOD:PUBLISH
BEGIN:VEVENT
UID:WILD_APRICOT_EVENT_2723638_SESSION_1
DTSTART:20180221T233000Z
DTEND:20180222T003000Z
SUMMARY:RBA Seminar Brisbane 4
LOCATION:Marist College Ashgrove
DESCRIPTION:https://qeta.com.au/event-2723638\n\nRBA Brisbane Seminar 4 for 2018 is held at Marist College Ashgrove on 22nd  February 2018 from 9.30 am until 10.30 am.\n  The seminar is presented by Trent Saunders\, Economist of the Reserve Bank of Australia in Queensland. The topic for the Presentation is "Current Conditions in the Australian Economy".\n  Cost is as follows:\n  $5.50 per student and teacher where school is a member of QETA.\n  $5.50 per teacher where the teacher is an individual member of QETA.\n  $7.70 per student where school is not a member of QETA.\n  \n\n
DTSTAMP:20200226T170817Z
END:VEVENT
END:VCALENDAR
