BEGIN:VCALENDAR
VERSION:2.0
METHOD:PUBLISH
BEGIN:VEVENT
UID:WILD_APRICOT_EVENT_2723632_SESSION_1
DTSTART:20180221T210000Z
DTEND:20180221T220000Z
SUMMARY:RBA Seminar Brisbane 3
LOCATION:Cavendish Road State High Scool
DESCRIPTION:https://qeta.com.au/event-2723632\n\nRBA Brisbane Seminar 3 for 2018 is held at Cavendish Road State High School on 22nd February 2018 from 7 am until 8.00 am.\n  The seminar is presented by Trent Saunders\, Economist of the Reserve Bank of Australia in Queensland. The topic for the Presentation is "Current Conditions in the Australian Economy".\n  Cost is as follows:\n  $5.50 per student and teacher where school is a member of QETA.\n  $5.50 per teacher where the teacher is an individual member of QETA.\n  $7.70 per student where school is not a member of QETA.\n  \n\n
DTSTAMP:20200226T170828Z
END:VEVENT
END:VCALENDAR
