BEGIN:VCALENDAR
VERSION:2.0
METHOD:PUBLISH
BEGIN:VEVENT
UID:WILD_APRICOT_EVENT_2723625_SESSION_1
DTSTART:20180219T060000Z
DTEND:20180219T070000Z
SUMMARY:RBA Seminar Brisbane 2
LOCATION:Brisbane Girls Grammar School
DESCRIPTION:https://qeta.com.au/event-2723625\n\nRBA Brisbane Seminar 2 for 2018 is held at Brisbane Girls Grammar School on 19th February 2018 from 4.00 pm until 5.00 pm.\n  The seminar is presented by Trent Saunders\, Economist of the Reserve Bank of Australia in Queensland. The topic for the Presentation is "Current Conditions in the Australian Economy".\n  Cost is as follows:\n  $5.50 per student and teacher where school is a member of QETA.\n  $5.50 per teacher where the teacher is an individual member of QETA.\n  $7.70 per student where school is not a member of QETA.\n  \n\n
DTSTAMP:20200226T170852Z
END:VEVENT
END:VCALENDAR
