BEGIN:VCALENDAR
VERSION:2.0
METHOD:PUBLISH
BEGIN:VEVENT
UID:WILD_APRICOT_EVENT_2723554_SESSION_1
DTSTART:20180219T010000Z
DTEND:20180219T020000Z
SUMMARY:RBA Seminar Brisbane 1
LOCATION:Cannon Hill Anglican College
DESCRIPTION:https://qeta.com.au/event-2723554\n\nRBA Brisbane Seminar 1 for 2018 is held at Cannon Hill Anglican College on 19th February 2018 from 11am until 12 noon.\n  The seminar is presented by Trent Saunders\, Economist of the Reserve Bank of Australia in Queensland. The topic for the Presentation is "Current Conditions in the Australian Economy".\n  Cost is as follows:\n  $5.50 per student and teacher where school is a member of QETA.\n  $5.50 per teacher where the teacher is an individual member of QETA.\n  $7.70 per student where school is not a member of QETA.\n  \n\n  RBA Seminar Brisbane.pdf\n\n  \n\n
DTSTAMP:20200226T170902Z
END:VEVENT
END:VCALENDAR
