BEGIN:VCALENDAR
VERSION:2.0
METHOD:PUBLISH
BEGIN:VEVENT
UID:WILD_APRICOT_EVENT_2654317_SESSION_1
DTSTART:20171011T063000Z
DTEND:20171011T073000Z
SUMMARY:QETA Annual General Meeting
LOCATION:Cavendish Road State High School
DESCRIPTION:https://qeta.com.au/event-2654317\n\nThe QETA Annual General Meeting is to be held on Wednesday 11th October 2017 at Cavendish Road State High School\, commencing at 4.30pm. Afternoon refreshments will be available from 4.00pm.\n  Parking is available on the grounds of Cavendish Road SHS\, via the parking the parking area on Cavendish Road.\n\n  The Agenda will be:\n  1. Apologies\n  2. Minutes of Previous Annual Meeting\n  3. Business from Minutes\n  4. President's report\n  5. Treasurer's Report\n  6. Auditor's Report\n  7. Election of Office-Bearers\n  8. Appointment of Auditor\n  9. General Business\n  Nominations for positions close on 27th September 2017. If interested in nominating for a Position on the Management Committee and require a nomination form\, please email QETA info@qeta.com.au .\n
DTSTAMP:20200226T170927Z
END:VEVENT
END:VCALENDAR
