BEGIN:VCALENDAR
VERSION:2.0
METHOD:PUBLISH
BEGIN:VEVENT
UID:WILD_APRICOT_EVENT_2550631_SESSION_1
DTSTART:20170721T000000Z
DTEND:20170721T040000Z
SUMMARY:QUT Student Economics Day
LOCATION:QUT Gardens Point Campus Z Block
DESCRIPTION:https://qeta.com.au/event-2550631\n\nThe QUTStudent Economics Day gives students the opportunity to:\n  * hear from some leading academic economists\;\n  * experience something of life on a university campus\n  * update their economic knowledge and understanding\n  This day is supported by the School of Economics\, Queensland University of Technology\n  The cost is a low $5.50 per student (includes GST) and students are provided with a lunch at no additional cost.\n  \n\n     Click here to download the QUT Day 2017 brochure.\n   \n\n  \n\n  \n\n
DTSTAMP:20200226T171008Z
END:VEVENT
END:VCALENDAR
