BEGIN:VCALENDAR
VERSION:2.0
METHOD:PUBLISH
BEGIN:VEVENT
UID:WILD_APRICOT_EVENT_2550628_SESSION_1
DTSTART:20170713T000000Z
DTEND:20170713T040000Z
SUMMARY:UQ Student Economics Day
LOCATION:University of Queensland Physiology Lecture Theatres
DESCRIPTION:https://qeta.com.au/event-2550628\n\nThe UQ Student Economics Day gives students the opportunity to:\n  * hear from some leading academic economists\;\n  * experience something of life on a university campus\n  * update their economic knowledge and understanding\n  This day is supported by the School of Economics\, University of Queensland.\n  The cost is a low $5.50 per student (includes GST) and students are provided with a lunch at no additional cost.\n  \n\n     Click here to download the UQ Day 2017 brochure      \n      Click here for the UQ day session times   \n\n  \n\n  \n\n
DTSTAMP:20200226T171035Z
END:VEVENT
END:VCALENDAR
