BEGIN:VCALENDAR
VERSION:2.0
METHOD:PUBLISH
BEGIN:VEVENT
UID:WILD_APRICOT_EVENT_2533612_SESSION_1
DTSTART:20170519T223000Z
DTEND:20170520T023000Z
SUMMARY:QETA PD Morning "Looking Forward - Economic Transitions"
LOCATION:Floor 10\, Z-Block\, QUT Gardens Point Campus
DESCRIPTION:https://qeta.com.au/event-2533612\n\nThis is a half-day Professional Development event conducted by the Queensland Economics Teachers' Association.\n  To be held at the Gardens Point Campus of QUT in central Brisbane\, the event gives teachers of Economics an opportunity to receive 3 hours of PD\, meet other teachers of Economics\, have a great morning tea\, hear some outstanding speakers in the field of Economics.\n  The program is:\n  8:30-9am Registration\n  9-9:10am Welcome and housekeeping\n  9:10-10am Keynote speaker: Dr Leonora Risse\, RMIT\, Topic: Market failure and economic interventions\n  10-10:15am Q&A with Dr Risse\n  10:15-10:45am Morning tea\n  10:45-11:30am Session 2: A bridge to the new senior curriculum. Christine Dowd\, Queensland Curriculum and Assessment Authority\n  11:30-12:20pm Session 3: Cathie Close\, Reserve Bank of Australia\, Topic: International economics\n  12:20-12:30pm Wrap up and close\n  \n\n
DTSTAMP:20200226T171128Z
END:VEVENT
END:VCALENDAR
