BEGIN:VCALENDAR
VERSION:2.0
METHOD:PUBLISH
BEGIN:VEVENT
UID:WILD_APRICOT_EVENT_2388848_SESSION_1
DTSTART:20170221T233000Z
DTEND:20170222T003000Z
SUMMARY:RBA Seminar 5 Marist College Ashgrove
LOCATION:Marist College\, Ashgrove
DESCRIPTION:https://qeta.com.au/event-2388848\n\nRBA Seminar 1 for 2017 is held at Marist College on 20th February from 9.30 am until 10.30 am.\n  The seminar is presented by Ms Cathie Close\, Senior Representative of the Reserve Bank of Australia in Queensland. The topic for the Presentation is "Current Conditions in the Australian Economy".\n  Cost is as follows:\n  $5.50 per student and teacher where school is a member of QETA.\n  $5.50 per teacher where the teacher is an individual member of QETA.\n  $7.70 per student where school is not a member of QETA.\n  Click here to download the RBA Seminar 1 flyer\n
DTSTAMP:20200226T171201Z
END:VEVENT
END:VCALENDAR
