BEGIN:VCALENDAR
VERSION:2.0
METHOD:PUBLISH
BEGIN:VEVENT
UID:WILD_APRICOT_EVENT_2388839_SESSION_1
DTSTART:20170221T210000Z
DTEND:20170221T220000Z
SUMMARY:RBA Seminar 4 Cavendish Road SHS
LOCATION:Cavendish Road State High School\, Holland Park
DESCRIPTION:https://qeta.com.au/event-2388839\n\nRBA Seminar 4 for 2017 is held at Cavendish Road State High School on 20th February from 7am until 8am.\n  The seminar is presented by Ms Cathie Close\, Senior Representative of the Reserve Bank of Australia in Queensland. The topic for the Presentation is "Current Conditions in the Australian Economy".\n  Cost is as follows:\n  $5.50 per student and teacher where school is a member of QETA.\n  $5.50 per teacher where the teacher is an individual member of QETA.\n  $7.70 per student where school is not a member of QETA.\n  Click here to download the RBA Seminar 1 flyer\n
DTSTAMP:20200226T171223Z
END:VEVENT
END:VCALENDAR
