BEGIN:VCALENDAR
VERSION:2.0
METHOD:PUBLISH
BEGIN:VEVENT
UID:WILD_APRICOT_EVENT_2388833_SESSION_1
DTSTART:20170220T230000Z
DTEND:20170221T000000Z
SUMMARY:RBA Seminar 3 Toowoomba
LOCATION:Toowoomba Grammar School
DESCRIPTION:https://qeta.com.au/event-2388833\n\nRBA Seminar 3 for 2017 is held at Toowoomba Grammar School on 21st February from 9am until 10am.\n  The seminar is presented by Ms Cathie Close\, Senior Representative of the Reserve Bank of Australia in Queensland. The topic for the Presentation is "Current Conditions in the Australian Economy".\n  Cost is as follows:\n  $5.50 per student and teacher where school is a member of QETA.\n  $5.50 per teacher where the teacher is an individual member of QETA.\n  $7.70 per student where school is not a member of QETA.\n  Click here to download the RBA Seminar 2 flyer.\n  \n\n
DTSTAMP:20200226T171233Z
END:VEVENT
END:VCALENDAR
