BEGIN:VCALENDAR
VERSION:2.0
METHOD:PUBLISH
BEGIN:VEVENT
UID:WILD_APRICOT_EVENT_2387198_SESSION_1
DTSTART:20170220T010000Z
DTEND:20170220T020000Z
SUMMARY:RBA Seminar Cannon Hill Anglican College
LOCATION:Cannon Hill Anglican College
DESCRIPTION:https://qeta.com.au/event-2387198\n\nRBA Seminar 1 for 2017 is held at Cannon Hill Anglican College on 20th February from 11am until 12 noon.\n  The seminar is presented by Ms Cathie Close\, Senior Representative of the Reserve Bank of Australia in Queensland. The topic for the Presentation is "Current Conditions in the Australian Economy".\n  Cost is as follows:\n  $5.50 per student and teacher where school is a member of QETA.\n  $5.50 per teacher where the teacher is an individual member of QETA.\n  $7.70 per student where school is not a member of QETA.\n  \n\n  Click here to download the RBA Seminar 1 flyer.\n\n
DTSTAMP:20200226T171306Z
END:VEVENT
END:VCALENDAR
