BEGIN:VCALENDAR
VERSION:2.0
METHOD:PUBLISH
BEGIN:VEVENT
UID:WILD_APRICOT_EVENT_2328245_SESSION_1
DTSTART:20161012T063000Z
DTEND:20161012T073000Z
SUMMARY:QETA Annual General Meeting
LOCATION:Cavendish Road State High School
DESCRIPTION:https://qeta.com.au/event-2328245\n\nThe AGM of QETA is open to all financial members to attend. This meeting will hear reports for the year 2015/2016\, adopt financial statements and elect office bearers for the year 2016/17.\n  \n\n  Refreshments will be available form 4 pm with the meeting to start at 4.30pm.\n  \n\n  All pre-service teachers\, individual members\, school members and life members are eligible to attend.\n
DTSTAMP:20200226T171318Z
END:VEVENT
END:VCALENDAR
