BEGIN:VCALENDAR
VERSION:2.0
METHOD:PUBLISH
BEGIN:VEVENT
UID:WILD_APRICOT_EVENT_2314842_SESSION_1
DTSTART:20160829T060000Z
DTEND:20160829T080000Z
SUMMARY:Economics Syllabus Draft 2 Feedback
LOCATION:Jupiter Room\, Annerley Hall\, 8 Waldheim St\, Annerley
DESCRIPTION:https://qeta.com.au/event-2314842\n\nThis is an opportunity for QETA members to discuss Draft 2 of the proposed Economics Syllabus\, and to give feedback on Draft 2\, to enable QETA to prepare a formal response to the draft.\n  \n\n  All members are entitled to attend. There is no charge for this event. However\, QETA does require you to register \, for catering purposes.\n  \n\n  There is parking at the Annerley Hall. Waldheim St is off Logan Road\, just past Woolworths\, and is a Brisbane City Council operated hall.\n  There will be tea/coffee/juice available along with some light afternoon tea.\n  Note: It is essential that you have read the draft (which should be available on 22nd August on the QCAA website. This is not an opportunity to hear about the Syllabus\, but to give feedback and hear comments about it.\n
DTSTAMP:20200226T171328Z
END:VEVENT
END:VCALENDAR
