BEGIN:VCALENDAR
VERSION:2.0
METHOD:PUBLISH
BEGIN:VEVENT
UID:WILD_APRICOT_EVENT_2240803_SESSION_1
DTSTART:20160714T000000Z
DTEND:20160714T040000Z
SUMMARY:UQ Student Economics Day
LOCATION:University of Qld\, St. Lucia
DESCRIPTION:https://qeta.com.au/event-2240803\n\nThe UQ Student Economics Day gives students the opportunity to:\n  * hear from some leading academic economists\;\n  * experience something of life on a university campus\n  * update their economic knowledge and understanding\n  This day is supported by the School of Economics\, University of Queensland.\n  The cost is a low $5.50 per student (includes GST) and students are provided with a lunch at no additional cost.\n  The 2016 flyers are available here:\n  UQ _QETA_ Economics Schools Day_program_FINAL.pdf\n\n  UQ Day 2016.pdf\n\n
DTSTAMP:20200226T171429Z
END:VEVENT
END:VCALENDAR
