BEGIN:VCALENDAR
VERSION:2.0
METHOD:PUBLISH
BEGIN:VEVENT
UID:WILD_APRICOT_EVENT_2240754_SESSION_1
DTSTART:20160722T000000Z
DTEND:20160722T040000Z
SUMMARY:QUT Student Economics Day 2016
LOCATION:Floor 4\, Z Block\, QUT Gardens Point Campus
DESCRIPTION:https://qeta.com.au/event-2240754\n\nQUT Student Economics Day is conducted by the the School of Economics and Finance at Queensland University of Technology at the Gardens Point Campus.\n  \n\n  This day gives students the opportunity to:\n  * hear from leading academic economists\;\n  * experience something of university campus life\;\n  * extend their economic knowledge and understanding.\n  \n\n  The cost is just $5.50 per student (includes GST) and this includes lunch at no additional cost.\n  \n\n  The program is available here: QUT Student Day 2016.pdf\n
DTSTAMP:20200226T171406Z
END:VEVENT
END:VCALENDAR
