BEGIN:VCALENDAR
VERSION:2.0
METHOD:PUBLISH
BEGIN:VEVENT
UID:WILD_APRICOT_EVENT_2206963_SESSION_1
DTSTART:20160520T223000Z
DTEND:20160521T053000Z
SUMMARY:QETA State Conference
LOCATION:Brisbane Girls Grammar School
DESCRIPTION:https://qeta.com.au/event-2206963\n\nThe QETA State Conference will be held on Saturday 21st May 2016 at Brisbane Grammar School\, with Registration commencing at 8.30am and concluding at 3.30pm.\n  The Conference program\, costs and how to register are included in this downloadable document: STATE CONFERENCE FLYER.pdf\n  The Conference is always a great day for teachers of Economics\, with great keynote addresses\, stimulating workshops\, outstanding food\, an opportunity to network with other teachers\, and social drinks at the conclusion of the day!\n  QETA thanks the following for their assistance/support of our Conference:\n      * QT Mutual Bank\n\n        * ITC Publications\n\n\n        * Brisbane Girls Grammar School\n\n
DTSTAMP:20200226T171505Z
END:VEVENT
END:VCALENDAR
