BEGIN:VCALENDAR
VERSION:2.0
METHOD:PUBLISH
BEGIN:VEVENT
UID:WILD_APRICOT_EVENT_2106297_SESSION_1
DTSTART:20160309T233000Z
DTEND:20160310T003000Z
SUMMARY:QETA RBA Seminar 6
LOCATION:Marist College Ashgrove
DESCRIPTION:https://qeta.com.au/event-2106297\n\nThe RBA Seminar is aimed for students studying the core unit "Contemporary Economic Management" or the core unit "International Economics".\n  The speaker is Karen Hooper\, Senior Representative of the Reserve Bank of Australia in Queensland. Karen covers many aspects of monetary policy during this update presentation.\n  \n\n  The Seminar is one hour in length\, and there is the opportunity for questions at the conclusion of the seminar.\n  Please download the flier here:\n RBA Seminar 1.pdf\n\n
DTSTAMP:20200226T171527Z
END:VEVENT
END:VCALENDAR
