BEGIN:VCALENDAR
VERSION:2.0
METHOD:PUBLISH
BEGIN:VEVENT
UID:WILD_APRICOT_EVENT_2106293_SESSION_1
DTSTART:20160309T210000Z
DTEND:20160309T220000Z
SUMMARY:QETA RBA Seminar 5
LOCATION:Cavendish Road State High School
DESCRIPTION:https://qeta.com.au/event-2106293\n\nThe RBA Seminar is aimed for students studying the core unit "Contemporary Economic Management" or the core unit "International Economics".\n  The speaker is Karen Hooper\, Senior Representative of the Reserve Bank of Australia in Queensland. Karen covers many aspects of monetary policy during this update presentation.\n  The Seminar is one hour in length\, and there is the opportunity for questions at the conclusion of the seminar.\n\n  Please download the flier here:\n RBA Seminar 1.pdf\n\n
DTSTAMP:20200226T171551Z
END:VEVENT
END:VCALENDAR
