BEGIN:VCALENDAR
VERSION:2.0
METHOD:PUBLISH
BEGIN:VEVENT
UID:WILD_APRICOT_EVENT_2106275_SESSION_1
DTSTART:20160307T010000Z
DTEND:20160307T020000Z
SUMMARY:QETA RBA Seminar 1
LOCATION:Cannon Hill College
DESCRIPTION:https://qeta.com.au/event-2106275\n\nThe RBA Seminar is aimed for students studying the core unit "Contemporary Economic Management" or the core unit "International Economics".\n  The speaker is Karen Hooper\, Senior Representative of the Reserve Bank of Australia in Queensland. Karen covers many aspects of monetary policy during this update presentation.\n  The Seminar is one hour in length\, and there is the opportunity for questions at the conclusion of the seminar.\n\n  Please download the flier here:\n RBA Seminar 1.pdf\n\n
DTSTAMP:20200226T171658Z
END:VEVENT
END:VCALENDAR
