BEGIN:VCALENDAR
VERSION:2.0
METHOD:PUBLISH
BEGIN:VEVENT
UID:WILD_APRICOT_EVENT_2039287_SESSION_1
DTSTART:20151014T063000Z
DTEND:20151014T073000Z
SUMMARY:QETA Annual General Meeting
LOCATION:Cavendish Road State High School\, Cavendish Road\, Holland Park Qld 4121
DESCRIPTION:https://qeta.com.au/event-2039287\n\nThe AGM of QETA will be held on 14th October at Cavendish Road State High School\, Cavendish Road\, Holland Park at 4.30pm.\n  \n\n  Attendance is restricted to members of QETA. \n  \n\n  For catering purposes\, please complete the registration process.\n  \n\n
DTSTAMP:20200226T171708Z
END:VEVENT
END:VCALENDAR
