BEGIN:VCALENDAR
VERSION:2.0
METHOD:PUBLISH
BEGIN:VEVENT
UID:WILD_APRICOT_EVENT_1795750_SESSION_1
DTSTART:20150309T230000Z
DTEND:20150310T000000Z
SUMMARY:RBA Seminar 3   Toowoomba Grammar School
LOCATION:Toowoomba Grammar School
DESCRIPTION:https://qeta.com.au/event-1795750\n\nRBA Seminar 3 for 2015 is held at Toowoomba Grammar School on 10th March 2015 from 9am until 10am.\n  The seminar is presented by Ms Karen Hooper\, Senior Representative of the Reserve Bank of Australia in Queensland. The topic for the Presentation is "Current Conditions in the Australian Economy".\n  Cost is as follows:\n  $5.50 per student and teacher where school is a member of QETA.\n  $5.50 per teacher where the teacher is an individual member of QETA.\n  $7.70 per student where school is not a member of QETA.\n  \n\n  Download the brochures for these events:\n  RBA Seminar Toowoomba.pdf\n \n \n\n        
DTSTAMP:20200226T171926Z
END:VEVENT
END:VCALENDAR
